BEGIN:VCALENDAR
VERSION:2.0
CALSCALE:GREGORIAN
PRODID:-//Diputació de Barcelona//DibaCMS//EN
BEGIN:VEVENT
UID:1379
DTSTAMP:20260424T221019
DTSTART:20191227T160000
DTEND:20191227T190000
SUMMARY:Taller de gegantons - Primera sessió
LOCATION:Sala d'exposicions 
METHOD:PUBLISH
X-WR-CALNAME:castellfollitr@riubregos.cat
X-WR-TIMEZONE:Europe/Madrid
DESCRIPTION:L'Ajuntament organitza un taller per fer un gegantó, que s'afegirà als gegantons Roc i la Roser.

URI:https://www.riubregos.cat/actualitat/agenda/taller-de-gegantons-primera-sessio.html
CLASS:PUBLIC
END:VEVENT
END:VCALENDAR
